BEGIN:VCALENDAR
PRODID:-//EventGuide//NONSGML MetroManager 1.1//EN
VERSION:2.0
METHOD:PUBLISH
BEGIN:VEVENT
DTSTART:20260620T190000
UID:20260328T190000Z-chs50174201@eventguide.com
DTSTAMP:20260620T165731Z
DESCRIPTION:Comedic performance live\n_unassigned\nCharleston, SC \n843-202-2787
SUMMARY:Morgan Jay
LOCATION:_unassigned
END:VEVENT
END:VCALENDAR
