BEGIN:VCALENDAR
PRODID:-//EventGuide//NONSGML MetroManager 1.1//EN
VERSION:2.0
METHOD:PUBLISH
BEGIN:VEVENT
DTSTART:20260425T193000
UID:20260328T193000Z-chs50174401@eventguide.com
DTSTAMP:20260425T165731Z
DESCRIPTION:Classical concert\n_unassigned\nCharleston, SC \n843-202-2787
SUMMARY:North Charleston Pops: Goes Country
LOCATION:_unassigned
END:VEVENT
END:VCALENDAR
