BEGIN:VCALENDAR
PRODID:-//EventGuide//NONSGML MetroManager 1.1//EN
VERSION:2.0
METHOD:PUBLISH
BEGIN:VEVENT
DTSTART:20260531T190000
UID:20260328T190000Z-cae50064301@eventguide.com
DTSTAMP:20260531T164117Z
DESCRIPTION:Pop / rock performance\n_unassigned\nColumbia, SC \n803-777-9774
SUMMARY:John Crist
LOCATION:_unassigned
END:VEVENT
END:VCALENDAR
