BEGIN:VCALENDAR
PRODID:-//EventGuide//NONSGML MetroManager 1.1//EN
VERSION:2.0
METHOD:PUBLISH
BEGIN:VEVENT
DTSTART:20260425T193000
UID:20260328T193000Z-cae50066801@eventguide.com
DTSTAMP:20260425T164124Z
DESCRIPTION:Jazz / blues concert performance\n_unassigned\nColumbia, SC \n803-276-6264
SUMMARY:Lee Rocker
LOCATION:_unassigned
END:VEVENT
END:VCALENDAR
