BEGIN:VCALENDAR
PRODID:-//EventGuide//NONSGML MetroManager 1.1//EN
VERSION:2.0
METHOD:PUBLISH
BEGIN:VEVENT
DTSTART:20260430T193000
UID:20260328T193000Z-cae50067001@eventguide.com
DTSTAMP:20260430T164124Z
DESCRIPTION:Entertaining magic show\n_unassigned\nColumbia, SC \n803-276-6264
SUMMARY:Magic Rocks
LOCATION:_unassigned
END:VEVENT
END:VCALENDAR
