BEGIN:VCALENDAR
PRODID:-//EventGuide//NONSGML MetroManager 1.1//EN
VERSION:2.0
METHOD:PUBLISH
BEGIN:VEVENT
DTSTART:20260702T193000
UID:20260329T193000Z-gso50127001@eventguide.com
DTSTAMP:20260702T134147Z
DESCRIPTION:R&B / soul music performance\nPiedmont Triad Combined Statistical Area\nGreensboro, NC \n336-786-7998
SUMMARY:Legacy Motown Revue
LOCATION:Piedmont Triad Combined Statistical Area
END:VEVENT
END:VCALENDAR
