BEGIN:VCALENDAR
PRODID:-//EventGuide//NONSGML MetroManager 1.1//EN
VERSION:2.0
METHOD:PUBLISH
BEGIN:VEVENT
DTSTART:20270410T160000
UID:20260329T160000Z-gso50128101@eventguide.com
DTSTAMP:20270410T134151Z
DESCRIPTION:Religious concert performance\nPiedmont Triad Combined Statistical Area\nGreensboro, NC \n800-228-2922
SUMMARY:The Collingsworth Family
LOCATION:Piedmont Triad Combined Statistical Area
END:VEVENT
END:VCALENDAR
