BEGIN:VCALENDAR
PRODID:-//EventGuide//NONSGML MetroManager 1.1//EN
VERSION:2.0
METHOD:PUBLISH
BEGIN:VEVENT
DTSTART:20260423T193000
UID:20260329T193000Z-jax50060201@eventguide.com
DTSTAMP:20260423T224000Z
DESCRIPTION:Pop / rock performance\nJacksonville Metro Area\nJacksonville, FL \n904-209-0399
SUMMARY:Justin Hayward
LOCATION:Jacksonville Metro Area
END:VEVENT
END:VCALENDAR
