BEGIN:VCALENDAR
PRODID:-//EventGuide//NONSGML MetroManager 1.1//EN
VERSION:2.0
METHOD:PUBLISH
BEGIN:VEVENT
DTSTART:20260507T190000
UID:20260329T190000Z-jax50253801@eventguide.com
DTSTAMP:20260507T224833Z
DESCRIPTION:Pop / rock performance\nJacksonville Metro Area\nJacksonville, FL \n904-209-0367
SUMMARY:George Thorogood and The Destroyers
LOCATION:Jacksonville Metro Area
END:VEVENT
END:VCALENDAR
