BEGIN:VCALENDAR
PRODID:-//EventGuide//NONSGML MetroManager 1.1//EN
VERSION:2.0
METHOD:PUBLISH
BEGIN:VEVENT
DTSTART:20260518T193000
UID:20260331T193000Z-lhr50492101@eventguide.com
DTSTAMP:20260518T165907Z
DESCRIPTION:Latin music in concert\nLondon Metro Area\nLondon, LO \n20 7589 8212
SUMMARY:Zucchero
LOCATION:London Metro Area
END:VEVENT
END:VCALENDAR
