BEGIN:VCALENDAR
PRODID:-//EventGuide//NONSGML MetroManager 1.1//EN
VERSION:2.0
METHOD:PUBLISH
BEGIN:VEVENT
DTSTART:20260821T193000
UID:20260331T193000Z-lhr50502741@eventguide.com
DTSTAMP:20260821T170001Z
DESCRIPTION:West End live theatrical performance\nLondon Metro Area\nLondon, LO \n333 3200025
SUMMARY:Ivanov
LOCATION:London Metro Area
END:VEVENT
END:VCALENDAR
