BEGIN:VCALENDAR
PRODID:-//EventGuide//NONSGML MetroManager 1.1//EN
VERSION:2.0
METHOD:PUBLISH
BEGIN:VEVENT
DTSTART:20260621T190000
UID:20260331T190000Z-lhr50503601@eventguide.com
DTSTAMP:20260621T170015Z
DESCRIPTION:Pop / rock performance\nLondon Metro Area\nLondon, LO \n870 6063580
SUMMARY:Beverley Knight
LOCATION:London Metro Area
END:VEVENT
END:VCALENDAR
