BEGIN:VCALENDAR
PRODID:-//EventGuide//NONSGML MetroManager 1.1//EN
VERSION:2.0
METHOD:PUBLISH
BEGIN:VEVENT
DTSTART:20260627T140000
UID:20260331T140000Z-lhr50504201@eventguide.com
DTSTAMP:20260627T170028Z
DESCRIPTION:Performing country music live\nLondon Metro Area\nLondon, LO 
SUMMARY:Garth Brooks
LOCATION:London Metro Area
END:VEVENT
END:VCALENDAR
