BEGIN:VCALENDAR
PRODID:-//EventGuide//NONSGML MetroManager 1.1//EN
VERSION:2.0
METHOD:PUBLISH
BEGIN:VEVENT
DTSTART:20260712T140000
UID:20260331T140000Z-lhr50504302@eventguide.com
DTSTAMP:20260712T170028Z
DESCRIPTION:Alternative music performance\nLondon Metro Area\nLondon, LO 
SUMMARY:Lewis Capaldi
LOCATION:London Metro Area
END:VEVENT
END:VCALENDAR
