BEGIN:VCALENDAR
PRODID:-//EventGuide//NONSGML MetroManager 1.1//EN
VERSION:2.0
METHOD:PUBLISH
BEGIN:VEVENT
DTSTART:20260710T140000
UID:20260331T140000Z-lhr50504401@eventguide.com
DTSTAMP:20260710T170028Z
DESCRIPTION:Rap / hip hop music performance\nLondon Metro Area\nLondon, LO 
SUMMARY:Pitbull
LOCATION:London Metro Area
END:VEVENT
END:VCALENDAR
