BEGIN:VCALENDAR
PRODID:-//EventGuide//NONSGML MetroManager 1.1//EN
VERSION:2.0
METHOD:PUBLISH
BEGIN:VEVENT
DTSTART:20260513T190000
UID:20260331T190000Z-lhr50504701@eventguide.com
DTSTAMP:20260513T170030Z
DESCRIPTION:Pop / rock performance\nLondon Metro Area\nLondon, LO \n20 7494 5020
SUMMARY:Christopher Cross
LOCATION:London Metro Area
END:VEVENT
END:VCALENDAR
