BEGIN:VCALENDAR
PRODID:-//EventGuide//NONSGML MetroManager 1.1//EN
VERSION:2.0
METHOD:PUBLISH
BEGIN:VEVENT
DTSTART:20260705T190000
UID:20260331T190000Z-lhr50504901@eventguide.com
DTSTAMP:20260705T170031Z
DESCRIPTION:Live rock / metal music\nLondon Metro Area\nLondon, LO \n20 8522 6001
SUMMARY:Metallica
LOCATION:London Metro Area
END:VEVENT
END:VCALENDAR
