BEGIN:VCALENDAR
PRODID:-//EventGuide//NONSGML MetroManager 1.1//EN
VERSION:2.0
METHOD:PUBLISH
BEGIN:VEVENT
DTSTART:20260626T170000
UID:20260331T170000Z-lhr50505002@eventguide.com
DTSTAMP:20260626T170031Z
DESCRIPTION:Pop / rock performance\nLondon Metro Area\nLondon, LO \n20 8522 6001
SUMMARY:Take That
LOCATION:London Metro Area
END:VEVENT
END:VCALENDAR
