BEGIN:VCALENDAR
PRODID:-//EventGuide//NONSGML MetroManager 1.1//EN
VERSION:2.0
METHOD:PUBLISH
BEGIN:VEVENT
DTSTART:20260516T143000
UID:20260331T143000Z-lhr50505107@eventguide.com
DTSTAMP:20260516T170033Z
DESCRIPTION:West End live theatrical performance\nLondon Metro Area\nLondon, LO \n20 8741 2311
SUMMARY:An Ideal Husband
LOCATION:London Metro Area
END:VEVENT
END:VCALENDAR
