BEGIN:VCALENDAR
PRODID:-//EventGuide//NONSGML MetroManager 1.1//EN
VERSION:2.0
METHOD:PUBLISH
BEGIN:VEVENT
DTSTART:20260519T193000
UID:20260331T193000Z-lhr50505109@eventguide.com
DTSTAMP:20260519T170033Z
DESCRIPTION:West End live theatrical performance\nLondon Metro Area\nLondon, LO \n20 8741 2311
SUMMARY:An Ideal Husband
LOCATION:London Metro Area
END:VEVENT
END:VCALENDAR
