BEGIN:VCALENDAR
PRODID:-//EventGuide//NONSGML MetroManager 1.1//EN
VERSION:2.0
METHOD:PUBLISH
BEGIN:VEVENT
DTSTART:20260627T143000
UID:20260331T143000Z-lhr50505507@eventguide.com
DTSTAMP:20260627T170038Z
DESCRIPTION:West End live theatrical performance\nLondon Metro Area\nLondon, LO \n20 8741 2311
SUMMARY:Relics The Play
LOCATION:London Metro Area
END:VEVENT
END:VCALENDAR
