BEGIN:VCALENDAR
PRODID:-//EventGuide//NONSGML MetroManager 1.1//EN
VERSION:2.0
METHOD:PUBLISH
BEGIN:VEVENT
DTSTART:20260707T193000
UID:20260331T193000Z-lhr50505515@eventguide.com
DTSTAMP:20260707T170038Z
DESCRIPTION:West End live theatrical performance\nLondon Metro Area\nLondon, LO \n20 8741 2311
SUMMARY:Relics The Play
LOCATION:London Metro Area
END:VEVENT
END:VCALENDAR
