BEGIN:VCALENDAR
PRODID:-//EventGuide//NONSGML MetroManager 1.1//EN
VERSION:2.0
METHOD:PUBLISH
BEGIN:VEVENT
DTSTART:20260528T180000
UID:20260331T180000Z-lhr50506701@eventguide.com
DTSTAMP:20260528T170044Z
DESCRIPTION:Live sporting event\nLondon Metro Area\nLondon, LO 
SUMMARY:BetMGM Premier League Darts
LOCATION:London Metro Area
END:VEVENT
END:VCALENDAR
