BEGIN:VCALENDAR
PRODID:-//EventGuide//NONSGML MetroManager 1.1//EN
VERSION:2.0
METHOD:PUBLISH
BEGIN:VEVENT
DTSTART:20260702T183000
UID:20260331T183000Z-lhr50507201@eventguide.com
DTSTAMP:20260702T170046Z
DESCRIPTION:Pop / rock performance\nLondon Metro Area\nLondon, LO 
SUMMARY:Def Leppard
LOCATION:London Metro Area
END:VEVENT
END:VCALENDAR
