BEGIN:VCALENDAR
PRODID:-//EventGuide//NONSGML MetroManager 1.1//EN
VERSION:2.0
METHOD:PUBLISH
BEGIN:VEVENT
DTSTART:20260507T183000
UID:20260331T183000Z-lhr50508801@eventguide.com
DTSTAMP:20260507T170051Z
DESCRIPTION:Alternative music performance\nLondon Metro Area\nLondon, LO 
SUMMARY:Tame Impala
LOCATION:London Metro Area
END:VEVENT
END:VCALENDAR
