BEGIN:VCALENDAR
PRODID:-//EventGuide//NONSGML MetroManager 1.1//EN
VERSION:2.0
METHOD:PUBLISH
BEGIN:VEVENT
DTSTART:20260526T193000
UID:20260331T193000Z-lhr50508901@eventguide.com
DTSTAMP:20260526T170051Z
DESCRIPTION:Basketball game\nLondon Metro Area\nLondon, LO 
SUMMARY:Harlem Globetrotters
LOCATION:London Metro Area
END:VEVENT
END:VCALENDAR
