BEGIN:VCALENDAR
PRODID:-//EventGuide//NONSGML MetroManager 1.1//EN
VERSION:2.0
METHOD:PUBLISH
BEGIN:VEVENT
DTSTART:20260606T183000
UID:20260331T183000Z-lhr50509501@eventguide.com
DTSTAMP:20260606T170053Z
DESCRIPTION:Alternative music performance\nLondon Metro Area\nLondon, LO \n20 8782 5566
SUMMARY:Lany
LOCATION:London Metro Area
END:VEVENT
END:VCALENDAR
