BEGIN:VCALENDAR
PRODID:-//EventGuide//NONSGML MetroManager 1.1//EN
VERSION:2.0
METHOD:PUBLISH
BEGIN:VEVENT
DTSTART:20260604T190000
UID:20260331T190000Z-lhr50510201@eventguide.com
DTSTAMP:20260604T170055Z
DESCRIPTION:Alternative music performance\nLondon Metro Area\nLondon, LO \n20 7424 8452
SUMMARY:Sofia Isella
LOCATION:London Metro Area
END:VEVENT
END:VCALENDAR
