BEGIN:VCALENDAR
PRODID:-//EventGuide//NONSGML MetroManager 1.1//EN
VERSION:2.0
METHOD:PUBLISH
BEGIN:VEVENT
DTSTART:20260506T184500
UID:20260331T184500Z-lhr50510501@eventguide.com
DTSTAMP:20260506T170057Z
DESCRIPTION:Jazz / blues concert performance\nLondon Metro Area\nLondon, LO \n20 7589 8212
SUMMARY:Joe Bonamassa
LOCATION:London Metro Area
END:VEVENT
END:VCALENDAR
