BEGIN:VCALENDAR
PRODID:-//EventGuide//NONSGML MetroManager 1.1//EN
VERSION:2.0
METHOD:PUBLISH
BEGIN:VEVENT
DTSTART:20260528T183000
UID:20260331T183000Z-lhr50510701@eventguide.com
DTSTAMP:20260528T170057Z
DESCRIPTION:Alternative music performance\nLondon Metro Area\nLondon, LO \n20 7589 8212
SUMMARY:Pixies
LOCATION:London Metro Area
END:VEVENT
END:VCALENDAR
