BEGIN:VCALENDAR
PRODID:-//EventGuide//NONSGML MetroManager 1.1//EN
VERSION:2.0
METHOD:PUBLISH
BEGIN:VEVENT
DTSTART:20260620T160000
UID:20260331T160000Z-lhr50511801@eventguide.com
DTSTAMP:20260620T170103Z
DESCRIPTION:Alternative music performance\nLondon Metro Area\nLondon, LO \n3 448440102
SUMMARY:Gorillaz
LOCATION:London Metro Area
END:VEVENT
END:VCALENDAR
