BEGIN:VCALENDAR
PRODID:-//EventGuide//NONSGML MetroManager 1.1//EN
VERSION:2.0
METHOD:PUBLISH
BEGIN:VEVENT
DTSTART:20260711T170000
UID:20260331T170000Z-lhr50512603@eventguide.com
DTSTAMP:20260711T170109Z
DESCRIPTION:Alternative music performance\nLondon Metro Area\nLondon, LO \n870 121 0123
SUMMARY:My Chemical Romance
LOCATION:London Metro Area
END:VEVENT
END:VCALENDAR
