BEGIN:VCALENDAR
PRODID:-//EventGuide//NONSGML MetroManager 1.1//EN
VERSION:2.0
METHOD:PUBLISH
BEGIN:VEVENT
DTSTART:20260623T190000
UID:20260331T190000Z-lhr50513001@eventguide.com
DTSTAMP:20260623T170111Z
DESCRIPTION:Pop / rock performance\nLondon Metro Area\nLondon, LO \n343 3100030
SUMMARY:Beverley Knight
LOCATION:London Metro Area
END:VEVENT
END:VCALENDAR
