BEGIN:VCALENDAR
PRODID:-//EventGuide//NONSGML MetroManager 1.1//EN
VERSION:2.0
METHOD:PUBLISH
BEGIN:VEVENT
DTSTART:20260424T080000
DTEND:20260424T230000
UID:20260414T080000Z-mco51347001@eventguide.com
DTSTAMP:20260424T142232Z
DESCRIPTION:This fun-filled, family-friendly event offers an opportunity to connect with nature, learn about conservation, and take action to protect our planet...\nOrlando Metro Area\nOrlando, FL \n407-862-1500
SUMMARY:Earth Day at Wekiva Island
LOCATION:Orlando Metro Area
END:VEVENT
END:VCALENDAR
