BEGIN:VCALENDAR
PRODID:-//EventGuide//NONSGML MetroManager 1.1//EN
VERSION:2.0
METHOD:PUBLISH
BEGIN:VEVENT
DTSTART:20270311T193000
UID:20260412T193000Z-tpa50190603@eventguide.com
DTSTAMP:20270311T135953Z
DESCRIPTION:A heartwarming story, it is based on the real life story of the Von Trapp Family singers\nTampa - St. Petersburg Metro Area\nTampa, FL \n813-229-7827
SUMMARY:Sound Of Music
LOCATION:Tampa - St. Petersburg Metro Area
END:VEVENT
END:VCALENDAR
