BEGIN:VCALENDAR
PRODID:-//EventGuide//NONSGML MetroManager 1.1//EN
VERSION:2.0
METHOD:PUBLISH
BEGIN:VEVENT
DTSTART:20260425T183000
UID:20260412T183000Z-tpa50314501@eventguide.com
DTSTAMP:20260425T140502Z
DESCRIPTION:Alternative music performance\nTampa - St. Petersburg Metro Area\nTampa, FL \n813-247-2555
SUMMARY:Nonpoint
LOCATION:Tampa - St. Petersburg Metro Area
END:VEVENT
END:VCALENDAR
