BEGIN:VCALENDAR
PRODID:-//EventGuide//NONSGML MetroManager 1.1//EN
VERSION:2.0
METHOD:PUBLISH
BEGIN:VEVENT
DTSTART:20260423T193000
UID:20260412T193000Z-tpa50368002@eventguide.com
DTSTAMP:20260423T140724Z
DESCRIPTION:Pop / rock performance\nTampa - St. Petersburg Metro Area\nTampa, FL \n727-791-7400
SUMMARY:Graham Nash
LOCATION:Tampa - St. Petersburg Metro Area
END:VEVENT
END:VCALENDAR
