BEGIN:VCALENDAR
PRODID:-//EventGuide//NONSGML MetroManager 1.1//EN
VERSION:2.0
METHOD:PUBLISH
BEGIN:VEVENT
DTSTART:20260502T190000
UID:20260412T190000Z-tpa50429501@eventguide.com
DTSTAMP:20260502T141008Z
DESCRIPTION:Alternative music performance\nTampa - St. Petersburg Metro Area\nTampa, FL \n727-895-3045
SUMMARY:Purity Ring
LOCATION:Tampa - St. Petersburg Metro Area
END:VEVENT
END:VCALENDAR
