BEGIN:VCALENDAR
PRODID:-//EventGuide//NONSGML MetroManager 1.1//EN
VERSION:2.0
METHOD:PUBLISH
BEGIN:VEVENT
DTSTART:20260424T200000
UID:20260412T200000Z-tpa50476101@eventguide.com
DTSTAMP:20260424T141204Z
DESCRIPTION:World music performance\nTampa - St. Petersburg Metro Area\nTampa, FL \n727-791-7400
SUMMARY:Ottmar Liebert & Luna Negra
LOCATION:Tampa - St. Petersburg Metro Area
END:VEVENT
END:VCALENDAR
