BEGIN:VCALENDAR
PRODID:-//EventGuide//NONSGML MetroManager 1.1//EN
VERSION:2.0
METHOD:PUBLISH
BEGIN:VEVENT
DTSTART:20260422T190000
UID:20260412T190000Z-tpa50607401@eventguide.com
DTSTAMP:20260422T141719Z
DESCRIPTION:Alternative music performance\nTampa - St. Petersburg Metro Area\nTampa, FL \n727-895-3045
SUMMARY:Panchiko
LOCATION:Tampa - St. Petersburg Metro Area
END:VEVENT
END:VCALENDAR
