BEGIN:VCALENDAR
PRODID:-//EventGuide//NONSGML MetroManager 1.1//EN
VERSION:2.0
METHOD:PUBLISH
BEGIN:VEVENT
DTSTART:20260425T193000
UID:20260412T193000Z-tpa50783501@eventguide.com
DTSTAMP:20260425T142318Z
DESCRIPTION:An author, chef, and television personality\nTampa - St. Petersburg Metro Area\nTampa, FL \n800-875-8662
SUMMARY:Alton Brown
LOCATION:Tampa - St. Petersburg Metro Area
END:VEVENT
END:VCALENDAR
