BEGIN:VCALENDAR
PRODID:-//EventGuide//NONSGML MetroManager 1.1//EN
VERSION:2.0
METHOD:PUBLISH
BEGIN:VEVENT
DTSTART:20260510T120000
UID:20260412T120000Z-tpa50813301@eventguide.com
DTSTAMP:20260510T142506Z
DESCRIPTION:A three-day country music 'beach bash' featuring headliners Kane Brown, Zach Top, and Gavin Adcock, with beachfront shows, camping, and a high-energy...\nTampa - St. Petersburg Metro Area\nTampa, FL \n727-562-1212
SUMMARY:Country Thunder Florida Sunday
LOCATION:Tampa - St. Petersburg Metro Area
END:VEVENT
END:VCALENDAR
